BEGIN:VCALENDAR
VERSION:2.0
PRODID:-//www.arcbp.com//NONSGML kigkonsult.se iCalcreator 2.30.10//
CALSCALE:GREGORIAN
METHOD:PUBLISH
UID:6ec111c7-0010-4c39-9836-278fb5046047
X-WR-CALDESC:On April 29th at 6:00pm\, four fabulous Chefs will gather at W
 hite Beeches Golf and Country Club in Haworth\, NJ to prepare a meal to re
 member.\nEvery plate served this evening will be raising funds for The Arc
  of Bergen and Passaic Counties\, an organization dedicated to helping ind
 ividuals with developmental disabilities such as autism\, down syndrome an
 d cerebral palsy.
X-WR-RELCALID:b5463c6ac0699707bc5088f14564d826
X-WR-TIMEZONE:America/New_York
BEGIN:VTIMEZONE
TZID:America/New_York
BEGIN:STANDARD
TZNAME:EST
DTSTART:20241103T020000
TZOFFSETFROM:-0400
TZOFFSETTO:-0500
RDATE:20251102T020000
END:STANDARD
BEGIN:DAYLIGHT
TZNAME:EDT
DTSTART:20250309T020000
TZOFFSETFROM:-0500
TZOFFSETTO:-0400
RDATE:20260308T020000
END:DAYLIGHT
END:VTIMEZONE
BEGIN:VEVENT
UID:f17c6675-a378-4a9d-b114-abda8b3949be
DTSTAMP:20260421T121021Z
DESCRIPTION:On April 29th at 6:00pm\, four fabulous Chefs will gather at Wh
 ite Beeches Golf and Country Club in Haworth\, NJ to prepare a meal to rem
 ember.\nEvery plate served this evening will be raising funds for The Arc 
 of Bergen and Passaic Counties\, an organization dedicated to helping indi
 viduals with developmental disabilities such as autism\, down syndrome and
  cerebral palsy.
DTSTART;TZID=America/New_York:20250429T180000
DTEND;TZID=America/New_York:20250429T220000
LOCATION:White Beeches Country Club Haworth NJ
SUMMARY:Shining Stars Chef Dinner
END:VEVENT
END:VCALENDAR
