BEGIN:VCALENDAR
VERSION:2.0
PRODID:-//www.arcbp.com//NONSGML kigkonsult.se iCalcreator 2.30.10//
CALSCALE:GREGORIAN
METHOD:PUBLISH
UID:ddb80ee3-e674-46b4-92d0-d2f4b073ecf6
X-WR-CALDESC:Friends\, families\, program participants\, board members\, su
 pporters\, volunteers and staff\, join us to kick off the holiday season. 
  Includes  antipasto hour\,  dinner\, dessert\, dancing & cash bar. Sponso
 rships and journal ads available.\n
X-WR-RELCALID:0dec458948fb1dfb274e911a6ae1213c
X-WR-TIMEZONE:America/New_York
BEGIN:VTIMEZONE
TZID:America/New_York
BEGIN:STANDARD
TZNAME:EST
DTSTART:20251102T020000
TZOFFSETFROM:-0400
TZOFFSETTO:-0500
RDATE:20261101T020000
END:STANDARD
BEGIN:DAYLIGHT
TZNAME:EDT
DTSTART:20250309T020000
TZOFFSETFROM:-0500
TZOFFSETTO:-0400
RDATE:20260308T020000
RDATE:20270314T020000
END:DAYLIGHT
END:VTIMEZONE
BEGIN:VEVENT
UID:0a8e2332-affd-474d-87dd-ae96eda1dccc
DTSTAMP:20260420T220227Z
DESCRIPTION:Friends\, families\, program participants\, board members\, sup
 porters\, volunteers and staff\, join us to kick off the holiday season.  
 Includes  antipasto hour\,  dinner\, dessert\, dancing & cash bar. Sponsor
 ships and journal ads available.\n
DTSTART;TZID=America/New_York:20251210T180000
DTEND;TZID=America/New_York:20251210T220000
LOCATION:The Venetian River 546 Road Garfield\, NJ
SUMMARY:The Arc's Annual Holiday Dinner Dance
END:VEVENT
END:VCALENDAR
